BEGIN:VCALENDAR
VERSION:2.0
PRODID:-//Gold Industry Group - ECPv6.15.20//NONSGML v1.0//EN
CALSCALE:GREGORIAN
METHOD:PUBLISH
X-ORIGINAL-URL:https://goldindustrygroup.com.au
X-WR-CALDESC:Events for Gold Industry Group
REFRESH-INTERVAL;VALUE=DURATION:PT1H
X-Robots-Tag:noindex
X-PUBLISHED-TTL:PT1H
BEGIN:VTIMEZONE
TZID:UTC
BEGIN:STANDARD
TZOFFSETFROM:+0000
TZOFFSETTO:+0000
TZNAME:UTC
DTSTART:20250101T000000
END:STANDARD
END:VTIMEZONE
BEGIN:VEVENT
DTSTART;TZID=UTC:20260424T090000
DTEND;TZID=UTC:20260424T103000
DTSTAMP:20260422T104426
CREATED:20260317T073206Z
LAST-MODIFIED:20260407T025316Z
UID:2720-1777021200-1777026600@goldindustrygroup.com.au
SUMMARY:GIG Breakfast | Hon David Michael MLA\, Minister for Mines and Petroleum
DESCRIPTION:An exclusive\, members-only breakfast giving you direct access to the Minister – bring your questions.\nThe Gold Industry Group invites its members to an exclusive breakfast with the Honourable David Michael MLA\, Western Australia’s Minister for Mines and Petroleum\, Finance\, Electoral Affairs\, Goldfields-Esperance\, and Leader of the House. \nThis is not a typical industry function. Designed with our members in mind\, this breakfast has been structured to give you genuine access to the Minister\, with dedicated time for an open Q&A where you can raise the issues that matter most to your business and to the broader sector. \nWhether your focus is regulatory reform\, investment conditions\, resource policy\, or the future of the WA goldfields\, this is your opportunity to ask\, engage\, and be heard. \n  \nEvent Program \n• Welcome and GIG Chair Update – Wayne Bramwell\, GIG Chair \n• Onstage Q&A with the Minister – facilitated by Wayne Bramwell and Rebecca Ciotti \n• Open floor – your questions put directly to the Minister \n• Networking breakfast with the Minister and industry peers \n  \nAbout the Minister \nThe Honourable David Michael MLA was appointed a Minister of Western Australia on 8 June 2023. First elected as the Member for Balcatta in March 2017\, he currently serves as Minister for Mines and Petroleum\, Finance\, Electoral Affairs\, Goldfields-Esperance\, and Leader of the House. \n  \nTickets & Registration \nThis event is free of charge for GIG Members. Registration is required as capacity is strictly limited. \nNot a GIG Member? This event is not open to the public. To find out more about GIG membership\, visit goldinstrygroup.com.au.
URL:https://goldindustrygroup.com.au/event/gig-breakfast-hon-david-michael-mla-minister-for-mines-and-petroleum/
LOCATION:Fraser’s Kings Park Function Centre\, 60 Fraser Ave\,\, Perth\, WA\, 6005\, Australia
ATTACH;FMTTYPE=image/png:https://goldindustrygroup.com.au/wp-content/uploads/2026/03/Ministers-Breakfast-2160-x-1080-px.png
END:VEVENT
END:VCALENDAR